BEGIN:VCALENDAR
VERSION:2.0
PRODID:-//ddaysoftware.com//NONSGML DDay.iCal 1.0//EN
BEGIN:VEVENT
DESCRIPTION:Organisés par la CCIG\, les Jeudis de l’ÉCONOMIE rassemblent\, 
 un jeudi par mois\, les acteurs qui font la vie économique genevoise autou
 r de thématiques clés. Un rendez-vous mensuel incontournable pour apporter
  un éclairage\, débattre et anticiper les enjeux économiques d’aujourd’hui
  et de demain. Ces sujets d’actualité sont également mis en lumière dans l
 ’émission télévisée «Parlons Économie» sur Carac et le magazine Genève Éco
 nomie (interviews\, débats...). \n Cette table ronde aura pour thème " Bil
 atérales UE\, qui décide ? ". \n \n Les accords bilatéraux avec l’Union eu
 ropéenne sont essentiels au bon fonctionnement de l’économie suisse. \n Il
 s garantissent un cadre stable pour les entreprises actives sur les marché
 s européens. \n Cette rencontre propose de clarifier les mécanismes de déc
 ision et leurs implications économiques. \n \n Programme :  \n \n \n \n \n
  11h00 \n \n \n Accueil  \n \n \n \n \n 11h15 \n \n \n Mot de bienvenue \n
  \n \n \n \n 11h20 \n \n \n Table ronde \n \n Christine Kaddous \, profess
 eure à l’Université de Genève\, titulaire de la chaire Jean Monnet ad pers
 onam\, directrice du Centre d’études juridiques européennes (CEJE) \n Cris
 tina Gaggini \, directrice romande d’economiesuisse \n Isabelle Harsch \, 
 CEO de Henri Harsch HH SA \n Anne-Sophie Dunand-Blaesi \, directrice génér
 ale d'Aprotec SA \n \n \n \n \n \n 12h15 \n \n \n Cocktail déjeunatoire \n
  \n \n \n \n 13h00 \n \n \n Fin de la manifestation \n \n \n \n \n   \n   
 \n Vous n’êtes pas encore Membre ? Pour plus d’infos :  membres@ccig.ch  !
  \n Nous tenons à vous informer que\, pour des raisons liées à la durabili
 té\, il est important de confirmer votre présence. Cela nous aide à mieux 
 gérer nos ressources et à minimiser notre impact environnemental. Si pour 
 une raison quelconque\, vous ne pouvez pas être présent\, nous vous serion
 s très reconnaissants de nous prévenir en cas d’urgence de dernière minute
 . Merci pour votre compréhension et votre coopération.  \n Merci de privil
 égier la mobilité douce et les transports publics pour vos déplacements.  
 \n  
DTEND:20260319T130000
DTSTAMP:20260421T084724Z
DTSTART:20260319T111500
LOCATION:CCIG\, bd du Théâtre 4\, Genève
SEQUENCE:0
SUMMARY:Les jeudis de l'économie
UID:94464edd-8037-4318-a264-999b717de526
X-ALT-DESC;FMTTYPE=text/html:<p>Organis&eacute\;s par la CCIG\, les Jeudis 
 de l&rsquo\;&Eacute\;CONOMIE rassemblent\, un jeudi par mois\, les acteurs
  qui font la vie &eacute\;conomique genevoise autour de th&eacute\;matique
 s cl&eacute\;s.<br />Un rendez-vous mensuel incontournable pour apporter u
 n &eacute\;clairage\, d&eacute\;battre et anticiper les enjeux &eacute\;co
 nomiques d&rsquo\;aujourd&rsquo\;hui et de demain.<br />Ces sujets d&rsquo
 \;actualit&eacute\; sont &eacute\;galement mis en lumi&egrave\;re dans l&r
 squo\;&eacute\;mission t&eacute\;l&eacute\;vis&eacute\;e &laquo\;Parlons &
 Eacute\;conomie&raquo\; sur Carac et le magazine Gen&egrave\;ve &Eacute\;c
 onomie (interviews\, d&eacute\;bats...).</p>\n<p>Cette table ronde aura po
 ur th&egrave\;me "<strong>Bilat&eacute\;rales UE\, qui d&eacute\;cide ?</s
 trong>".</p>\n<ul>\n<li class="xmsonormal">Les accords bilat&eacute\;raux 
 avec l&rsquo\;Union europ&eacute\;enne sont essentiels au bon fonctionneme
 nt de l&rsquo\;&eacute\;conomie suisse.</li>\n<li class="xmsonormal">Ils g
 arantissent un cadre stable pour les entreprises actives sur les march&eac
 ute\;s europ&eacute\;ens.</li>\n<li class="xmsonormal">Cette rencontre pro
 pose de clarifier les m&eacute\;canismes de d&eacute\;cision et leurs impl
 ications &eacute\;conomiques.</li>\n</ul>\n<p>Programme&nbsp\;:&nbsp\;</p>
 \n<table class=" sp-table">\n<tbody>\n<tr>\n<td style="width: 82.9688px\;"
 >\n<p>11h00</p>\n</td>\n<td style="width: 687.604px\;">\n<p><strong>Accuei
 l&nbsp\;</strong></p>\n</td>\n</tr>\n<tr>\n<td style="width: 82.9688px\;">
 \n<p>11h15</p>\n</td>\n<td style="width: 687.604px\;">\n<p><strong>Mot de 
 bienvenue</strong></p>\n</td>\n</tr>\n<tr>\n<td style="width: 82.9688px\;"
 >\n<p>11h20</p>\n</td>\n<td style="width: 687.604px\;">\n<p><strong>Table 
 ronde</strong></p>\n<ul>\n<li><strong>Christine Kaddous</strong>\, profess
 eure &agrave\; l&rsquo\;Universit&eacute\; de Gen&egrave\;ve\, titulaire d
 e la chaire Jean Monnet ad personam\, directrice du Centre d&rsquo\;&eacut
 e\;tudes juridiques europ&eacute\;ennes (CEJE)</li>\n<li><strong>Cristina 
 Gaggini</strong>\, directrice romande d&rsquo\;economiesuisse</li>\n<li><s
 trong>Isabelle Harsch</strong>\, CEO de Henri Harsch HH SA</li>\n<li><stro
 ng>Anne-Sophie Dunand-Blaesi</strong>\, directrice g&eacute\;n&eacute\;ral
 e d'Aprotec SA</li>\n</ul>\n</td>\n</tr>\n<tr>\n<td style="width: 82.9688p
 x\;">\n<p>12h15</p>\n</td>\n<td style="width: 687.604px\;">\n<p><strong>Co
 cktail d&eacute\;jeunatoire</strong></p>\n</td>\n</tr>\n<tr>\n<td style="w
 idth: 82.9688px\;">\n<p>13h00</p>\n</td>\n<td style="width: 687.604px\;">\
 n<p><strong>Fin de la manifestation</strong></p>\n</td>\n</tr>\n</tbody>\n
 </table>\n<p>&nbsp\;</p>\n<p><strong>&nbsp\;</strong></p>\n<p>Vous n&rsquo
 \;&ecirc\;tes pas encore Membre ?&nbsp\;Pour plus d&rsquo\;infos&nbsp\;:&n
 bsp\;<a href="mailto:membres@ccig.ch" target="_blank" rel="noopener">membr
 es@ccig.ch</a>&nbsp\;!</p>\n<p><em>Nous tenons &agrave\; vous informer que
 \, pour des raisons li&eacute\;es &agrave\; la durabilit&eacute\;\, il est
  important de confirmer votre pr&eacute\;sence. Cela nous aide &agrave\; m
 ieux g&eacute\;rer nos ressources et &agrave\; minimiser notre impact envi
 ronnemental. Si pour une raison quelconque\, vous ne pouvez pas &ecirc\;tr
 e pr&eacute\;sent\, nous vous serions tr&egrave\;s reconnaissants de nous 
 pr&eacute\;venir en cas d&rsquo\;urgence de derni&egrave\;re minute. Merci
  pour votre compr&eacute\;hension et votre coop&eacute\;ration.&nbsp\;</em
 ></p>\n<p><em><strong>Merci de privil&eacute\;gier la mobilit&eacute\; dou
 ce et les transports publics pour vos d&eacute\;placements.&nbsp\;</strong
 ></em></p>\n<p>&nbsp\;</p>
END:VEVENT
END:VCALENDAR
