BEGIN:VCALENDAR
VERSION:2.0
PRODID:-//ddaysoftware.com//NONSGML DDay.iCal 1.0//EN
BEGIN:VEVENT
DESCRIPTION:  \n As Europe’s largest economy and Switzerland’s key trading 
 partner\, Germany represents a strategic lever for growth\, innovation and
  diversification\, particularly as nearly 80% of Swiss companies already e
 xport to the country. \n The participation of the Head of the Economic Aff
 airs Section of the German Embassy\, the  Head of Swiss Business Hub Germa
 ny\, and  a consultant from Switzerland Global Enterprise (S‑GE) Germany w
 ill provide practical insights into market access\, European value chains 
 and sector‑specific opportunities. \n The programme will also feature a co
 mpany testimonial (TBC) with a strong presence in Geneva. \n This Market F
 ocus aims to mobilise the Geneva economic ecosystem around a key partner a
 t the heart of Europe’s economy. \n   \n Programme :  \n \n \n \n \n 11:45
  \n \n \n Registration \n \n \n \n \n 12:00 \n \n \n Welcome addresses CCI
 G Vincent Subilia\, Director general\, CCIG \n \n \n \n \n 12:10 \n \n \n 
 Germany – Switzerland economic ties Tilmann Hochmüller\, Head of Economic 
 Section\, Embassy of Germany in Bern \n \n \n \n \n 12:25 \n \n \n Access 
 to the German Market: Regulations\, strategies and opportunities \n Britta
  Thiele-Klapproth\, Head of Swiss Business Hub Germany  \n \n \n \n \n 12:
 40 \n \n \n The importance of a vital economic partnership \n Xavier Cornu
 t\, Consultant Europe and CIS\, Switzerland Global Enterprise (S-GE) \n \n
  \n \n \n 12:50 \n \n \n Company Spotlight – Abacus Research SA (CH/DE) \n
   Estelle Grossmann\, Business Development Manager \n \n \n \n \n 13:10 \n
  \n \n Cocktail networking session \n \n \n \n \n 14:00 \n \n \n End of th
 e event \n \n \n \n \n   \n This event will be held in English.  \n ----- 
 \n Thank you for favouring soft mobility for your trips. \n ----- \n N.B. 
  We inform you that photos and/or videos could be taken to immortalise thi
 s event. By participating\, you authorise the CCIG to use them on differen
 t media to promote its activities.
DTEND:20260520T140000
DTSTAMP:20260421T122155Z
DTSTART:20260520T114500
LOCATION:CCIG\, bd du Théâtre 4\, Genève
SEQUENCE:0
SUMMARY:Market Focus Germany 
UID:b2fa07bb-b4fe-4adb-8a04-79032fcf2837
X-ALT-DESC;FMTTYPE=text/html:<p>&nbsp\;</p>\n<p>As Europe&rsquo\;s largest 
 economy and Switzerland&rsquo\;s key trading partner\, Germany represents 
 a strategic lever for growth\, innovation and diversification\, particular
 ly as nearly 80% of Swiss companies already export to the country.</p>\n<p
 >The participation of the Head of the Economic Affairs Section of the Germ
 an Embassy\, the <span data-teams="true">Head of Swiss Business Hub German
 y\, and</span>&nbsp\;a consultant from Switzerland Global Enterprise (S‑GE
 ) Germany will provide practical insights into market access\, European va
 lue chains and sector‑specific opportunities.</p>\n<p><span data-teams="tr
 ue">The programme will also feature a company testimonial (TBC) with a str
 ong presence in Geneva.</span></p>\n<p>This Market Focus aims to mobilise 
 the Geneva economic ecosystem around a key partner at the heart of Europe&
 rsquo\;s economy.</p>\n<p>&nbsp\;</p>\n<p style="text-align: justify\;"><s
 pan style="text-decoration: underline\;">Programme</span>:&nbsp\;</p>\n<ta
 ble class=" sp-table" style="height: 0px\; width: 743px\;">\n<tbody>\n<tr 
 style="height: 32px\;">\n<td style="width: 78.1771px\; height: 32px\; text
 -align: justify\;">\n<p>11:45</p>\n</td>\n<td style="width: 627.49px\; hei
 ght: 32px\; text-align: justify\;">\n<p><strong>Registration</strong></p>\
 n</td>\n</tr>\n<tr style="height: 32px\;">\n<td style="width: 78.1771px\; 
 height: 32px\; text-align: justify\;">\n<p>12:00</p>\n</td>\n<td style="wi
 dth: 627.49px\; height: 32px\; text-align: justify\;">\n<p><strong>Welcome
  addresses CCIG<br /></strong>Vincent Subilia\, Director general\, CCIG</p
 >\n</td>\n</tr>\n<tr style="height: 32px\;">\n<td style="width: 78.1771px\
 ; text-align: justify\; height: 32px\;">\n<p>12:10</p>\n</td>\n<td style="
 width: 627.49px\; text-align: justify\; height: 32px\;">\n<p><strong>Germa
 ny &ndash\; Switzerland economic ties</strong><br />Tilmann Hochm&uuml\;ll
 er\, Head of Economic Section\, Embassy of Germany in Bern</p>\n</td>\n</t
 r>\n<tr>\n<td style="width: 78.1771px\; text-align: justify\;">\n<p>12:25<
 /p>\n</td>\n<td style="width: 627.49px\; text-align: justify\;">\n<p><stro
 ng><span data-teams="true">Access to the German Market: Regulations\, stra
 tegies and opportunities</span></strong></p>\n<p>Britta Thiele-Klapproth\,
  Head of Swiss Business Hub Germany&nbsp\;</p>\n</td>\n</tr>\n<tr>\n<td st
 yle="width: 78.1771px\; text-align: justify\;">\n<p>12:40</p>\n</td>\n<td 
 style="width: 627.49px\; text-align: justify\;">\n<p><strong>The importanc
 e of a vital economic partnership</strong></p>\n<p>Xavier Cornut\, Consult
 ant Europe and CIS\, Switzerland Global Enterprise (S-GE)</p>\n</td>\n</tr
 >\n<tr>\n<td style="width: 78.1771px\; text-align: justify\;">\n<p>12:50</
 p>\n</td>\n<td style="width: 627.49px\; text-align: justify\;">\n<p style=
 "text-align: left\;"><strong>Company Spotlight &ndash\; Abacus Research SA
  (CH/DE)</strong></p>\n<p style="text-align: left\;"><span data-teams="tru
 e"> Estelle Grossmann\, Business Development Manager</span></p>\n</td>\n</
 tr>\n<tr style="height: 32px\;">\n<td style="width: 78.1771px\; height: 22
 px\; text-align: justify\;">\n<p>13:10</p>\n</td>\n<td style="width: 627.4
 9px\; height: 22px\; text-align: justify\;">\n<p><strong>Cocktail networki
 ng session</strong></p>\n</td>\n</tr>\n<tr style="height: 32px\;">\n<td st
 yle="width: 78.1771px\; text-align: justify\; height: 32px\;">\n<p>14:00</
 p>\n</td>\n<td style="width: 627.49px\; text-align: justify\; height: 32px
 \;">\n<p><strong>End of the event</strong></p>\n</td>\n</tr>\n</tbody>\n</
 table>\n<p style="text-align: justify\;">&nbsp\;</p>\n<p style="text-align
 : justify\;"><em>This event will be held in English.&nbsp\;</em></p>\n<p s
 tyle="text-align: justify\;">-----</p>\n<p style="text-align: justify\;"><
 em>Thank you for favouring soft mobility for your trips.</em></p>\n<p styl
 e="text-align: justify\;"><em>-----</em></p>\n<p style="text-align: justif
 y\;"><em>N.B. </em><em>We inform you that photos and/or videos could be ta
 ken to immortalise this event. By participating\, you authorise the CCIG t
 o use them on different media to promote its activities.</em></p>
END:VEVENT
END:VCALENDAR
