BEGIN:VCALENDAR
VERSION:2.0
PRODID:-//ddaysoftware.com//NONSGML DDay.iCal 1.0//EN
BEGIN:VEVENT
DESCRIPTION:Première édition :  intégration de l’intelligence artificielle 
 en entreprise \n L’intelligence artificielle transforme aujourd’hui toutes
  les organisations. Cette session vous offre une approche pragmatique et o
 pérationnelle pour comprendre comment adopter l’IA avec succès\, quelle qu
 e soit la taille ou le secteur de votre organisation. \n La MasterClass es
 t organisée en partenariat avec Darest et animée par Joël Fradkoff\, COO\,
  expert en digitalisation et certifié Harvard Business School (Leader for 
 AI)\, qui partagera son savoir-faire et son expérience concrète lors de ce
 tte session. \n Vous pourrez également enrichir vos échanges grâce aux tém
 oignages d’intervenants issus des family offices\, du secteur de la santé 
 et de la gestion de projets. \n Avec les interventions de: \n \n Joël Frad
 koff\, COO de Darest:  après un Master en Gestion d’Entreprise à HEC Genèv
 e et plus de 20 ans d’expérience en direction financière et opérationnelle
 \, Joël Fradkoff accompagne aujourd’hui les PME dans leur digitalisation e
 t l’adoption de solutions d’IA. Il est également certifié Harvard Business
  School (Leader for AI) \n Sabrina Fares\, responsable développement NewOa
 k : Sabrina Fares contribue chez NewOak à bâtir un family office nouvelle 
 génération\, agile et tech-driven\, en renouvelant les codes de la gestion
  de fortune.\n Forte d’un parcours international\, dans le secteur public 
 et privé\, elle a façonné des politiques d’innovation et d’entrepreunariat
  en France et dans les pays émergents. \n \n \n Fabrice Léger\, directeur 
 associé d'idéative : directeur associé de idéative et associé du Groupe Po
 int Prod Actua\, Fabrice Léger accompagne depuis plus de 20 ans les organi
 sations dans leur transformation numérique et la création de valeur par le
  digital.  Ancien formateur\, il allie vision stratégique\, sens pédagogiq
 ue et pragmatisme opérationnel. \n \n Sébastien Hess\, CFO\, MCI Suisse et
  Dorier : Sébastien Hess bénéficie d'une expertise approfondie dans la ges
 tion de projets\, la structuration des processus et la mise en œuvre d’out
 ils permettant d’améliorer significativement la performance opérationnelle
 . Sa conviction : le succès repose sur l’humain et sur la qualité des donn
 ées et de l’information. ­ \n \n Programme : \n \n \n \n 10h45 \n \n Accue
 il \n \n \n \n 11h00 \n \n Mot de bienvenue \n Romain Duriez\, directeur o
 pérationnel et directeur général adjoint\, CCIG \n \n \n \n 11h10 \n \n To
 ur de table \n \n \n \n 11h30 \n \n Intervention \n Joël Fradkoff\, COO de
  Darest\, expert en digitalisation et certifié Harvard Business School (Le
 ader for AI)  \n \n \n \n 12h10 \n \n Pause déjeuner \n \n \n \n 12h30 \n 
 \n Témoignages de trois entreprises \n \n \n \n  14h00 \n  Fin de l'événem
 ent autour d'un café \n \n \n \n   \n La rencontre est exclusivement réser
 vée aux Membres de la CCIG et limitée à 15 participants pour garantir des 
 échanges qualitatifs et personnalisés. \n   \n Vous n’êtes pas encore Memb
 re ? Pour plus d’infos :  membres@ccig.ch  ! \n Nous tenons à vous informe
 r que\, pour des raisons liées à la durabilité\, il est important de confi
 rmer votre présence. Cela nous aide à mieux gérer nos ressources et à mini
 miser notre impact environnemental. Si pour une raison quelconque\, vous n
 e pouvez pas être présent\, nous vous serions très reconnaissants de nous 
 prévenir en cas d’urgence de dernière minute. Merci pour votre compréhensi
 on et votre coopération.  \n Merci de privilégier la mobilité douce et les
  transports publics pour vos déplacements.  \n  
DTEND:20260501T140000
DTSTAMP:20260421T122710Z
DTSTART:20260501T110000
LOCATION:CCIG\, bd du Théâtre 4\, Genève
SEQUENCE:0
SUMMARY:MasterClass : intégration de l'IA en entreprise
UID:ae30bde2-d396-44d0-8506-dbe2f0889af6
X-ALT-DESC;FMTTYPE=text/html:<p><strong>Premi&egrave\;re &eacute\;dition : 
 </strong><strong>int&eacute\;gration de l&rsquo\;intelligence artificielle
  en entreprise</strong></p>\n<p><span id="isPasted" data-olk-copy-source="
 MessageBody">L&rsquo\;intelligence artificielle transforme aujourd&rsquo\;
 hui toutes les organisations. Cette session vous offre une approche pragma
 tique et op&eacute\;rationnelle pour comprendre comment adopter l&rsquo\;I
 A avec succ&egrave\;s\, quelle que soit la taille ou le secteur de votre o
 rganisation.</span></p>\n<p>La MasterClass est organis&eacute\;e en parten
 ariat avec Darest et anim&eacute\;e par Jo&euml\;l Fradkoff\, COO\, expert
  en digitalisation et certifi&eacute\; Harvard Business School (Leader for
  AI)\, qui partagera son savoir-faire et son exp&eacute\;rience concr&egra
 ve\;te lors de cette session.</p>\n<p>Vous pourrez &eacute\;galement enric
 hir vos &eacute\;changes gr&acirc\;ce aux t&eacute\;moignages d&rsquo\;int
 ervenants issus des family offices\, du secteur de la sant&eacute\; et de 
 la gestion de projets.</p>\n<p>Avec les interventions de:</p>\n<ul>\n<li><
 strong>Jo&euml\;l Fradkoff\, COO de Darest: </strong>apr&egrave\;s un Mast
 er en Gestion d&rsquo\;Entreprise &agrave\; HEC Gen&egrave\;ve et plus de 
 20 ans d&rsquo\;exp&eacute\;rience en direction financi&egrave\;re et op&e
 acute\;rationnelle\, Jo&euml\;l Fradkoff accompagne aujourd&rsquo\;hui les
  PME dans leur digitalisation et l&rsquo\;adoption de solutions d&rsquo\;I
 A. Il est &eacute\;galement certifi&eacute\; Harvard Business School (Lead
 er for AI)</li>\n<li><strong>Sabrina Fares\, responsable d&eacute\;veloppe
 ment NewOak</strong>: Sabrina Fares contribue chez NewOak &agrave\; b&acir
 c\;tir un family office nouvelle g&eacute\;n&eacute\;ration\, agile et tec
 h-driven\, en renouvelant les codes de la gestion de fortune.\n<p>Forte d&
 rsquo\;un parcours international\, dans le secteur public et priv&eacute\;
 \, elle a fa&ccedil\;onn&eacute\; des politiques d&rsquo\;innovation et d&
 rsquo\;entrepreunariat en France et dans les pays &eacute\;mergents.</p>\n
 </li>\n<li>\n<p><strong style="font-size: clamp(16px\, 1.42857vw\, 20px)\;
 ">Fabrice L&eacute\;ger\, directeur associ&eacute\; d'id&eacute\;ative</st
 rong><span style="font-size: clamp(16px\, 1.42857vw\, 20px)\;">: directeur
  associ&eacute\; de id&eacute\;ative et associ&eacute\; du Groupe Point Pr
 od Actua\, Fabrice L&eacute\;ger accompagne depuis plus de 20 ans les orga
 nisations dans leur transformation num&eacute\;rique et la cr&eacute\;atio
 n de valeur par le digital. </span><span style="font-size: clamp(16px\, 1.
 42857vw\, 20px)\;">Ancien formateur\, il allie vision strat&eacute\;gique\
 , sens p&eacute\;dagogique et pragmatisme op&eacute\;rationnel.</span></p>
 \n</li>\n<li><span style="font-size: clamp(16px\, 1.42857vw\, 20px)\;"><st
 rong>S&eacute\;bastien Hess\, CFO\, MCI Suisse et Dorier</strong>: S&eacut
 e\;bastien Hess b&eacute\;n&eacute\;ficie d'une expertise approfondie dans
  la gestion de projets\, la structuration des processus et la mise en &oel
 ig\;uvre d&rsquo\;outils permettant d&rsquo\;am&eacute\;liorer significati
 vement la performance op&eacute\;rationnelle.<br />Sa conviction : le succ
 &egrave\;s repose sur l&rsquo\;humain et sur la qualit&eacute\; des donn&e
 acute\;es et de l&rsquo\;information.<br />&shy\;</span></li>\n</ul>\n<p c
 lass="NormalCCIG"><strong>Programme</strong>:</p>\n<table class="table-res
 ponsive sp-table" style="height: 487px\;">\n<tbody>\n<tr>\n<td style="widt
 h: 86.5417px\;">10h45</td>\n<td style="width: 781.667px\;">\n<p><strong>Ac
 cueil</strong></p>\n</td>\n</tr>\n<tr style="height: 83px\;">\n<td style="
 height: 83px\; width: 86.5417px\;">11h00</td>\n<td style="height: 83px\; w
 idth: 781.667px\;">\n<p><strong>Mot de bienvenue</strong></p>\n<p>Romain D
 uriez\, directeur op&eacute\;rationnel et directeur g&eacute\;n&eacute\;ra
 l adjoint\, CCIG</p>\n</td>\n</tr>\n<tr>\n<td style="width: 86.5417px\;">1
 1h10</td>\n<td style="width: 781.667px\;">\n<p><strong>Tour de table</stro
 ng></p>\n</td>\n</tr>\n<tr style="height: 90px\;">\n<td style="height: 90p
 x\; width: 86.5417px\;">11h30</td>\n<td style="height: 90px\; width: 781.6
 67px\;">\n<p><strong>Intervention</strong></p>\n<p>Jo&euml\;l Fradkoff\, C
 OO de Darest\, expert en digitalisation et certifi&eacute\; Harvard Busine
 ss School (Leader for AI)&nbsp\;</p>\n</td>\n</tr>\n<tr style="height: 33p
 x\;">\n<td style="height: 55px\; width: 86.5417px\;">12h10</td>\n<td style
 ="height: 55px\; width: 781.667px\;">\n<p><strong>Pause d&eacute\;jeuner</
 strong></p>\n</td>\n</tr>\n<tr style="height: 68px\;">\n<td style="height:
  68px\; width: 86.5417px\;">12h30</td>\n<td style="height: 68px\; width: 7
 81.667px\;">\n<p><strong>T&eacute\;moignages de trois entreprises</strong>
 </p>\n</td>\n</tr>\n<tr style="height: 23px\;">\n<td style="height: 55px\;
  width: 86.5417px\;">&nbsp\;14h00</td>\n<td style="height: 55px\; width: 7
 81.667px\;"><strong> Fin de l'&eacute\;v&eacute\;nement autour d'un caf&ea
 cute\;</strong></td>\n</tr>\n</tbody>\n</table>\n<p>&nbsp\;</p>\n<p><stron
 g>La rencontre est exclusivement r&eacute\;serv&eacute\;e aux Membres de l
 a CCIG et limit&eacute\;e &agrave\; 15 participants pour garantir des &eac
 ute\;changes qualitatifs et personnalis&eacute\;s.</strong></p>\n<p>&nbsp\
 ;</p>\n<p>Vous n&rsquo\;&ecirc\;tes pas encore Membre ?&nbsp\;Pour plus d&
 rsquo\;infos&nbsp\;:&nbsp\;<a href="mailto:membres@ccig.ch" target="_blank
 " rel="noopener">membres@ccig.ch</a>&nbsp\;!</p>\n<p><em>Nous tenons &agra
 ve\; vous informer que\, pour des raisons li&eacute\;es &agrave\; la durab
 ilit&eacute\;\, il est important de confirmer votre pr&eacute\;sence. Cela
  nous aide &agrave\; mieux g&eacute\;rer nos ressources et &agrave\; minim
 iser notre impact environnemental. Si pour une raison quelconque\, vous ne
  pouvez pas &ecirc\;tre pr&eacute\;sent\, nous vous serions tr&egrave\;s r
 econnaissants de nous pr&eacute\;venir en cas d&rsquo\;urgence de derni&eg
 rave\;re minute. Merci pour votre compr&eacute\;hension et votre coop&eacu
 te\;ration.&nbsp\;</em></p>\n<p><em><strong>Merci de privil&eacute\;gier l
 a mobilit&eacute\; douce et les transports publics pour vos d&eacute\;plac
 ements.&nbsp\;</strong></em></p>\n<p>&nbsp\;</p>
END:VEVENT
END:VCALENDAR
